BEGIN:VCALENDAR
VERSION:2.0
PRODID:icalendar-ruby
CALSCALE:GREGORIAN
BEGIN:VEVENT
DTSTAMP:20260424T140603Z
UID:655bd96c-f4c6-44fb-ab89-192b4afa4f6f
DTSTART;VALUE=DATE:20201202
DESCRIPTION:Property ID# 494641\, Locatoin: 247 Cameron Road\, Tauranga\, T
 ime: 1:00PM
SUMMARY:Auction for 
END:VEVENT
END:VCALENDAR
