BEGIN:VCALENDAR
VERSION:2.0
PRODID:icalendar-ruby
CALSCALE:GREGORIAN
BEGIN:VEVENT
DTSTAMP:20210120T031015Z
UID:ad53ffbb-32c3-4d4c-8034-bf351b4b514a
DTSTART;VALUE=DATE:20201113
DESCRIPTION:Property ID# 494671\, Locatoin: Harcourts Auction Room\, 1 Thir
 d Ave\, Tauranga (unless sold prior)\, Time: 12:30PM
SUMMARY:Auction for 
END:VEVENT
END:VCALENDAR
