BEGIN:VCALENDAR
VERSION:2.0
PRODID:icalendar-ruby
CALSCALE:GREGORIAN
BEGIN:VEVENT
DTSTAMP:20210120T031003Z
UID:81bb35d0-17ca-4542-a53e-6794be232a9f
DTSTART;VALUE=DATE:20201210
DESCRIPTION:Property ID# 494734\, Time: 12:00PM
SUMMARY:Auction for 238 Republican Road
END:VEVENT
END:VCALENDAR
