BEGIN:VCALENDAR
VERSION:2.0
PRODID:icalendar-ruby
CALSCALE:GREGORIAN
BEGIN:VEVENT
DTSTAMP:20210120T031050Z
UID:fd80a89d-81e5-4e20-8193-be1bda499d8d
DTSTART;VALUE=DATE:20201205
DESCRIPTION:Property ID# 495231\, Time: 1:00PM
SUMMARY:Auction for 
END:VEVENT
END:VCALENDAR
