BEGIN:VCALENDAR
VERSION:2.0
PRODID:icalendar-ruby
CALSCALE:GREGORIAN
BEGIN:VEVENT
DTSTAMP:20210120T031136Z
UID:f130a6d7-8c3b-45b7-b219-2317d32201b6
DTSTART;VALUE=DATE:20201210
DESCRIPTION:Property ID# 496149\, Locatoin: Level 1\, 51 The Strand\, Taura
 nga (unless sold prior)\, Time: 12:00PM
SUMMARY:Auction for 112 Youngson Rd
END:VEVENT
END:VCALENDAR
