BEGIN:VCALENDAR
VERSION:2.0
PRODID:icalendar-ruby
CALSCALE:GREGORIAN
BEGIN:VEVENT
DTSTAMP:20210120T031140Z
UID:a0b84521-3f09-43f4-a588-e50294363b9a
DTSTART;VALUE=DATE:20201210
DESCRIPTION:Property ID# 496150\, Locatoin: Level 1\, 51 The Strand\, Taura
 nga (unless sold prior)\, Time: 12:00PM
SUMMARY:Auction for 
END:VEVENT
END:VCALENDAR
