BEGIN:VCALENDAR
VERSION:2.0
PRODID:icalendar-ruby
CALSCALE:GREGORIAN
BEGIN:VEVENT
DTSTAMP:20210120T030931Z
UID:c7091a81-c1a9-4724-ad87-4c131f8ce3ef
DTSTART;VALUE=DATE:20201217
DESCRIPTION:Property ID# 496307\, Locatoin: EVES Auction Room: 247 Cameron 
 Road\, Tauranga (unless sold prior)	\, Time: 1:00PM
SUMMARY:Auction for 
END:VEVENT
END:VCALENDAR
