BEGIN:VCALENDAR
VERSION:2.0
PRODID:icalendar-ruby
CALSCALE:GREGORIAN
BEGIN:VEVENT
DTSTAMP:20210120T031115Z
UID:3758b2f0-5ae7-4b3f-b53e-f1d3caa9dcaa
DTSTART;VALUE=DATE:20201215
DESCRIPTION:Property ID# 496497\, Time: 2:00PM
SUMMARY:Auction for 
END:VEVENT
END:VCALENDAR
