BEGIN:VCALENDAR
VERSION:2.0
PRODID:icalendar-ruby
CALSCALE:GREGORIAN
BEGIN:VEVENT
DTSTAMP:20210120T032108Z
UID:f54ef7a7-fb46-4a17-ac5f-f9b72b9059e2
DTSTART;VALUE=DATE:20201216
DESCRIPTION:Property ID# 496773\, Locatoin: Bayleys Auction Rooms\, Ground 
 Floor\, 247 Cameron Road\, Tauranga\, Time: 1:00PM
SUMMARY:Auction for 
END:VEVENT
END:VCALENDAR
