BEGIN:VCALENDAR
VERSION:2.0
PRODID:icalendar-ruby
CALSCALE:GREGORIAN
BEGIN:VEVENT
DTSTAMP:20210120T031122Z
UID:54ba6eaa-a9e7-48e3-8f7d-2796bf071598
DTSTART;VALUE=DATE:20201214
DESCRIPTION:Property ID# 497141\, Time: 4:00PM
SUMMARY:Auction for 8 Mcleod Place 
END:VEVENT
END:VCALENDAR
