BEGIN:VCALENDAR
VERSION:2.0
PRODID:icalendar-ruby
CALSCALE:GREGORIAN
BEGIN:VEVENT
DTSTAMP:20260424T135502Z
UID:3bf9cd4d-9e08-41f9-9d21-bab1306878c2
DTSTART;VALUE=DATE:20201218
DESCRIPTION:Property ID# 497429\, Time: 12:00PM
SUMMARY:Auction for 
END:VEVENT
END:VCALENDAR
