BEGIN:VCALENDAR
VERSION:2.0
PRODID:icalendar-ruby
CALSCALE:GREGORIAN
BEGIN:VEVENT
DTSTAMP:20210120T032041Z
UID:89504706-9602-4646-adf2-c974b90f11a5
DTSTART;VALUE=DATE:20210218
DESCRIPTION:Property ID# 497489\, Time: 4:00PM
SUMMARY:Auction for 215 Ohiwa Beach Road
END:VEVENT
END:VCALENDAR
