BEGIN:VCALENDAR
VERSION:2.0
PRODID:icalendar-ruby
CALSCALE:GREGORIAN
BEGIN:VEVENT
DTSTAMP:20210120T031049Z
UID:37bb8e5b-84ea-43a2-b59f-d2c8f67c7c3f
DTSTART;VALUE=DATE:20201211
DESCRIPTION:Property ID# 497526\, Time: 12:00PM
SUMMARY:Auction for 
END:VEVENT
END:VCALENDAR
