BEGIN:VCALENDAR
VERSION:2.0
PRODID:icalendar-ruby
CALSCALE:GREGORIAN
BEGIN:VEVENT
DTSTAMP:20210120T031127Z
UID:df4371dc-5895-48ab-a1e9-5332a20c84eb
DTSTART;VALUE=DATE:20201222
DESCRIPTION:Property ID# 497963\, Time: 3:00PM
SUMMARY:Auction for 
END:VEVENT
END:VCALENDAR
