BEGIN:VCALENDAR
VERSION:2.0
PRODID:icalendar-ruby
CALSCALE:GREGORIAN
BEGIN:VEVENT
DTSTAMP:20210120T030913Z
UID:2d35aa4d-13c3-4bde-9da9-f480baa40373
DTSTART;VALUE=DATE:20210210
DESCRIPTION:Property ID# 498474\, Locatoin: In Rooms @ 5/9 Domain Road\, Pa
 pamoa (unless sold prior)\, Time: 1:00PM
SUMMARY:Auction for 32B Rita Street 
END:VEVENT
END:VCALENDAR
