BEGIN:VCALENDAR
VERSION:2.0
PRODID:icalendar-ruby
CALSCALE:GREGORIAN
BEGIN:VEVENT
DTSTAMP:20210120T031135Z
UID:0f42b9a1-8a9e-448f-8986-9b97ad97e164
DTSTART;VALUE=DATE:20210128
DESCRIPTION:Property ID# 498687\, Locatoin: Level 1\, 51 The Strand\, Taura
 nga (unless sold prior)\, Time: 1:00PM
SUMMARY:Auction for 181 Rowesdale Dr
END:VEVENT
END:VCALENDAR
