BEGIN:VCALENDAR
VERSION:2.0
PRODID:icalendar-ruby
CALSCALE:GREGORIAN
BEGIN:VEVENT
DTSTAMP:20210120T031042Z
UID:6d259a64-77ac-4b35-aba8-a26aa240af92
DTSTART;VALUE=DATE:20210128
DESCRIPTION:Property ID# 498752\, Locatoin: Level 1\, 51 The Strand\, Taura
 nga (unless sold prior)\, Time: 12:00PM
SUMMARY:Auction for 3 Maruia Place
END:VEVENT
END:VCALENDAR
