BEGIN:VCALENDAR
VERSION:2.0
PRODID:icalendar-ruby
CALSCALE:GREGORIAN
BEGIN:VEVENT
DTSTAMP:20210120T031008Z
UID:956ca896-7b74-4068-b56d-00cdd979035f
DTSTART;VALUE=DATE:20210128
DESCRIPTION:Property ID# 498828\, Locatoin: Harcourts Auction Room\, 1 Thir
 d Ave\, Tauranga (unless sold prior)\, Time: 1:00PM
SUMMARY:Auction for 5 Kotuku Place
END:VEVENT
END:VCALENDAR
