BEGIN:VCALENDAR
VERSION:2.0
PRODID:icalendar-ruby
CALSCALE:GREGORIAN
BEGIN:VEVENT
DTSTAMP:20210120T030903Z
UID:788b6c52-9915-4a4d-a87f-6995f743f8d9
DTSTART;VALUE=DATE:20210128
DESCRIPTION:Property ID# 499034\, Locatoin: Harcourts Auction Room\, 1 Thir
 d Ave\, Time: 1:30PM
SUMMARY:Auction for 19A Burns Street
END:VEVENT
END:VCALENDAR
