BEGIN:VCALENDAR
VERSION:2.0
PRODID:icalendar-ruby
CALSCALE:GREGORIAN
BEGIN:VEVENT
DTSTAMP:20210120T032038Z
UID:c973bd8a-70ec-4ac4-a7e5-a7c47a193500
DTSTART;VALUE=DATE:20210225
DESCRIPTION:Property ID# 499036\, Time: 12:00PM
SUMMARY:Auction for 2/85 Forkert Road
END:VEVENT
END:VCALENDAR
