BEGIN:VCALENDAR
VERSION:2.0
PRODID:icalendar-ruby
CALSCALE:GREGORIAN
BEGIN:VEVENT
DTSTAMP:20210120T031010Z
UID:af81e8b4-0cbf-4ff3-8a89-0b1a247653f9
DTSTART;VALUE=DATE:20210218
DESCRIPTION:Property ID# 499374\, Locatoin: Harcourts Auction Room\, 1 Thir
 d Ave\, Tauranga (unless sold prior)\, Time: 1:00PM
SUMMARY:Auction for 
END:VEVENT
END:VCALENDAR
