BEGIN:VCALENDAR
VERSION:2.0
PRODID:icalendar-ruby
CALSCALE:GREGORIAN
BEGIN:VEVENT
DTSTAMP:20210120T030901Z
UID:9a40e55a-96b2-4239-976d-4a57daf025ad
DTSTART;VALUE=DATE:20210204
DESCRIPTION:Property ID# 499595\, Locatoin: Harcourts\, 1 Third Avenue\, Ta
 uranga\, Time: 1:00PM
SUMMARY:Auction for 25 Eclipse Terrace
END:VEVENT
END:VCALENDAR
