BEGIN:VCALENDAR
VERSION:2.0
PRODID:icalendar-ruby
CALSCALE:GREGORIAN
BEGIN:VEVENT
DTSTAMP:20210121T194431Z
UID:78d535e5-eb6d-4ee7-93ee-a1b2757a04ce
DTSTART;VALUE=DATE:20210218
DESCRIPTION:Property ID# 499803\, Locatoin: In rooms\, Time: 1:00PM
SUMMARY:Auction for 29A Topaz Drive
END:VEVENT
END:VCALENDAR
