BEGIN:VCALENDAR
VERSION:2.0
PRODID:icalendar-ruby
CALSCALE:GREGORIAN
BEGIN:VEVENT
DTSTAMP:20210121T194440Z
UID:a457b06c-2ca1-4111-a06b-c1605fb38828
DTSTART;VALUE=DATE:20210210
DESCRIPTION:Property ID# 499868\, Time: 6:00PM
SUMMARY:Auction for 5 Sandhurst Drive
END:VEVENT
END:VCALENDAR
