BEGIN:VCALENDAR
VERSION:2.0
PRODID:icalendar-ruby
CALSCALE:GREGORIAN
BEGIN:VEVENT
DTSTAMP:20210121T194425Z
UID:2744e684-4aad-4a70-bfdf-f69f3fefbed9
DTSTART;VALUE=DATE:20210218
DESCRIPTION:Property ID# 499869\, Locatoin: Auction Rooms\, Eves Realty Lim
 ited\, 247 Cameron Road\, Tauranga\, Time: 12:00PM
SUMMARY:Auction for 65B Sherson Street
END:VEVENT
END:VCALENDAR
