BEGIN:VCALENDAR
VERSION:2.0
PRODID:icalendar-ruby
CALSCALE:GREGORIAN
BEGIN:VEVENT
DTSTAMP:20210121T194525Z
UID:da28bdf5-91d8-46d0-9958-6fe00771f529
DTSTART;VALUE=DATE:20210219
DESCRIPTION:Property ID# 499882\, Locatoin: Harcourts Office\, 38 Church St
 reet\, Opotiki.\, Time: 12:00PM
SUMMARY:Auction for 42A & 42B Bridge Street
END:VEVENT
END:VCALENDAR
