BEGIN:VCALENDAR
VERSION:2.0
PRODID:icalendar-ruby
CALSCALE:GREGORIAN
BEGIN:VEVENT
DTSTAMP:20210121T194504Z
UID:9c9f6ddd-74c4-446f-8229-266df9cc5b52
DTSTART;VALUE=DATE:20210203
DESCRIPTION:Property ID# 499941\, Time: 4:00PM
SUMMARY:Auction for 5 Ewert Street
END:VEVENT
END:VCALENDAR
