BEGIN:VCALENDAR
VERSION:2.0
PRODID:icalendar-ruby
CALSCALE:GREGORIAN
BEGIN:VEVENT
DTSTAMP:20210121T194535Z
UID:a14b0ddb-263e-46f1-8f24-6a5501ee94f6
DTSTART;VALUE=DATE:20210218
DESCRIPTION:Property ID# 499991\, Locatoin: On Site \, Time: 4:00PM
SUMMARY:Auction for 174 Kaitemako Road
END:VEVENT
END:VCALENDAR
