BEGIN:VCALENDAR
VERSION:2.0
PRODID:icalendar-ruby
CALSCALE:GREGORIAN
BEGIN:VEVENT
DTSTAMP:20210121T194455Z
UID:c161f046-d1ff-4c48-9183-4b1bb406f34f
DTSTART;VALUE=DATE:20210304
DESCRIPTION:Property ID# 500075\, Locatoin: Level 1\, 51 The Strand\, Taura
 nga 3110\, Time: 1:00PM
SUMMARY:Auction for 15 Malibu Key
END:VEVENT
END:VCALENDAR
