BEGIN:VCALENDAR
VERSION:2.0
PRODID:icalendar-ruby
CALSCALE:GREGORIAN
BEGIN:VEVENT
DTSTAMP:20210121T194518Z
UID:289b6043-5fb1-4c7e-b053-2e39527595a1
DTSTART;VALUE=DATE:20210209
DESCRIPTION:Property ID# 500085\, Time: 5:00PM
SUMMARY:Auction for 57 Douglas Street
END:VEVENT
END:VCALENDAR
