BEGIN:VCALENDAR
VERSION:2.0
PRODID:icalendar-ruby
CALSCALE:GREGORIAN
BEGIN:VEVENT
DTSTAMP:20210121T194511Z
UID:733b9475-db5f-42a3-8562-c6ba0c83580f
DTSTART;VALUE=DATE:20210211
DESCRIPTION:Property ID# 500088\, Time: 12:30PM
SUMMARY:Auction for 31A Bridge Street
END:VEVENT
END:VCALENDAR
