BEGIN:VCALENDAR
VERSION:2.0
PRODID:icalendar-ruby
CALSCALE:GREGORIAN
BEGIN:VEVENT
DTSTAMP:20210121T194531Z
UID:244d22e6-d8ae-4d3e-85c6-a3ca333beacc
DTSTART;VALUE=DATE:20210224
DESCRIPTION:Property ID# 500203\, Locatoin: Ray White Auction Rooms\, 5/9 D
 omain Road\, Papamoa\, Time: 1:00PM
SUMMARY:Auction for 50 Bahamas Key
END:VEVENT
END:VCALENDAR
