BEGIN:VCALENDAR
VERSION:2.0
PRODID:icalendar-ruby
CALSCALE:GREGORIAN
BEGIN:VEVENT
DTSTAMP:20210121T194538Z
UID:011fdc92-8e6c-4383-9157-36cca3028818
DTSTART;VALUE=DATE:20210217
DESCRIPTION:Property ID# 500225\, Locatoin: Bayleys Auction Rooms\, Ground 
 Floor\, 247 Cameron Road\, Tauranga\, Time: 1:00PM
SUMMARY:Auction for 682A Oropi Road
END:VEVENT
END:VCALENDAR
