BEGIN:VCALENDAR
VERSION:2.0
PRODID:icalendar-ruby
CALSCALE:GREGORIAN
BEGIN:VEVENT
DTSTAMP:20210121T194448Z
UID:b426fa6f-fedb-4491-b796-d0f2e26e969b
DTSTART;VALUE=DATE:20210214
DESCRIPTION:Property ID# 500226\, Time: 12:00PM
SUMMARY:Auction for 49 Chateau Crescent
END:VEVENT
END:VCALENDAR
