BEGIN:VCALENDAR
VERSION:2.0
PRODID:icalendar-ruby
CALSCALE:GREGORIAN
BEGIN:VEVENT
DTSTAMP:20210121T194420Z
UID:d70f4319-467f-4da9-ad5c-456840df4f59
DTSTART;VALUE=DATE:20210211
DESCRIPTION:Property ID# 500234\, Locatoin: Auction Rooms\, 247 Cameron Roa
 d\, Tauranga. Unless sold prior\, Time: 1:00PM
SUMMARY:Auction for 167 Kings Ave
END:VEVENT
END:VCALENDAR
