BEGIN:VCALENDAR
VERSION:2.0
PRODID:icalendar-ruby
CALSCALE:GREGORIAN
BEGIN:VEVENT
DTSTAMP:20210121T194435Z
UID:314d5bb7-a8e2-4a7e-ae44-936dd125ed4b
DTSTART;VALUE=DATE:20210225
DESCRIPTION:Property ID# 500306\, Locatoin: EVES Auction Room: 247 Cameron 
 Road\, Tauranga (unless sold prior)	\, Time: 1:00PM
SUMMARY:Auction for 5 Oakwood Way
END:VEVENT
END:VCALENDAR
