BEGIN:VCALENDAR
VERSION:2.0
PRODID:icalendar-ruby
CALSCALE:GREGORIAN
BEGIN:VEVENT
DTSTAMP:20210121T194414Z
UID:8ccd7a78-ad77-4c7f-ae22-ba0fb980c2f1
DTSTART;VALUE=DATE:20210202
DESCRIPTION:Property ID# 500349\, Locatoin: Harcourts Auction Room\, 1 Thir
 d Ave\, Tauranga (unless sold prior)\, Time: 12:30PM
SUMMARY:Auction for 68 Links Avenue
END:VEVENT
END:VCALENDAR
