BEGIN:VCALENDAR
VERSION:2.0
PRODID:icalendar-ruby
CALSCALE:GREGORIAN
BEGIN:VEVENT
DTSTAMP:20210120T030910Z
UID:2ef8275b-8aae-49a5-9564-f8e32a7ff1e6
DTSTART;TZID=Pacific/Auckland:20210124T140000
DTEND;TZID=Pacific/Auckland:20210124T143000
DESCRIPTION:Property ID# 498474
SUMMARY:Openhome for 32B Rita Street 
END:VEVENT
END:VCALENDAR
