BEGIN:VCALENDAR
VERSION:2.0
PRODID:icalendar-ruby
CALSCALE:GREGORIAN
BEGIN:VEVENT
DTSTAMP:20210120T031109Z
UID:0a855036-2f13-4b57-a058-4c9c796aaabe
DTSTART;TZID=Pacific/Auckland:20210124T103000
DTEND;TZID=Pacific/Auckland:20210124T110000
DESCRIPTION:Property ID# 495056
SUMMARY:Openhome for 10 Carnoustie Place
END:VEVENT
END:VCALENDAR
