BEGIN:VCALENDAR
VERSION:2.0
PRODID:icalendar-ruby
CALSCALE:GREGORIAN
BEGIN:VEVENT
DTSTAMP:20210120T031006Z
UID:5e0b4d79-2140-471d-b3f6-b59c535e9648
DTSTART;TZID=Pacific/Auckland:20210124T140000
DTEND;TZID=Pacific/Auckland:20210124T143000
DESCRIPTION:Property ID# 498828
SUMMARY:Openhome for 5 Kotuku Place
END:VEVENT
END:VCALENDAR
