BEGIN:VCALENDAR
VERSION:2.0
PRODID:icalendar-ruby
CALSCALE:GREGORIAN
BEGIN:VEVENT
DTSTAMP:20210121T194530Z
UID:48059a03-af2c-490a-9060-1cb8cc19fb7b
DTSTART;TZID=Pacific/Auckland:20210124T130000
DTEND;TZID=Pacific/Auckland:20210124T134500
DESCRIPTION:Property ID# 500203
SUMMARY:Openhome for 50 Bahamas Key
END:VEVENT
END:VCALENDAR
