BEGIN:VCALENDAR
VERSION:2.0
PRODID:icalendar-ruby
CALSCALE:GREGORIAN
BEGIN:VEVENT
DTSTAMP:20210121T194428Z
UID:86beb9e4-35bc-434f-aaf2-47a89d2f9c59
DTSTART;TZID=Pacific/Auckland:20210124T123000
DTEND;TZID=Pacific/Auckland:20210124T130000
DESCRIPTION:Property ID# 499803
SUMMARY:Openhome for 29A Topaz Drive
END:VEVENT
END:VCALENDAR
