BEGIN:VCALENDAR
VERSION:2.0
PRODID:icalendar-ruby
CALSCALE:GREGORIAN
BEGIN:VEVENT
DTSTAMP:20210121T194423Z
UID:ceb2f743-85c9-4afc-a445-9d28c144db23
DTSTART;TZID=Pacific/Auckland:20210124T113000
DTEND;TZID=Pacific/Auckland:20210124T120000
DESCRIPTION:Property ID# 499869
SUMMARY:Openhome for 65B Sherson Street
END:VEVENT
END:VCALENDAR
