BEGIN:VCALENDAR
VERSION:2.0
PRODID:icalendar-ruby
CALSCALE:GREGORIAN
BEGIN:VEVENT
DTSTAMP:20210121T194521Z
UID:cc05d49a-eb45-441f-b547-d519a262a077
DTSTART;TZID=Pacific/Auckland:20210124T123000
DTEND;TZID=Pacific/Auckland:20210124T133000
DESCRIPTION:Property ID# 500279
SUMMARY:Openhome for 31 Peter Lippa Drive
END:VEVENT
END:VCALENDAR
