BEGIN:VCALENDAR
VERSION:2.0
PRODID:icalendar-ruby
CALSCALE:GREGORIAN
BEGIN:VEVENT
DTSTAMP:20210121T194509Z
UID:8d0169d2-c07a-4147-8c71-d6c5efd57027
DTSTART;TZID=Pacific/Auckland:20210124T140000
DTEND;TZID=Pacific/Auckland:20210124T143000
DESCRIPTION:Property ID# 500088
SUMMARY:Openhome for 31A Bridge Street
END:VEVENT
END:VCALENDAR
