BEGIN:VCALENDAR
VERSION:2.0
PRODID:icalendar-ruby
CALSCALE:GREGORIAN
BEGIN:VEVENT
DTSTAMP:20210121T194516Z
UID:dc6e24c8-d746-404e-a79c-a0ebb3a9605e
DTSTART;TZID=Pacific/Auckland:20210124T113000
DTEND;TZID=Pacific/Auckland:20210124T121500
DESCRIPTION:Property ID# 500085
SUMMARY:Openhome for 57 Douglas Street
END:VEVENT
END:VCALENDAR
