BEGIN:VCALENDAR
VERSION:2.0
PRODID:icalendar-ruby
CALSCALE:GREGORIAN
BEGIN:VEVENT
DTSTAMP:20210121T194452Z
UID:134d53a3-e379-4975-86dd-a1785797723a
DTSTART;TZID=Pacific/Auckland:20210124T130000
DTEND;TZID=Pacific/Auckland:20210124T140000
DESCRIPTION:Property ID# 500444
SUMMARY:Openhome for 95B Edmund Road
END:VEVENT
END:VCALENDAR
