BEGIN:VCALENDAR
VERSION:2.0
PRODID:icalendar-ruby
CALSCALE:GREGORIAN
BEGIN:VEVENT
DTSTAMP:20210121T194447Z
UID:00670635-055a-4594-b2ac-fcfa8b00391c
DTSTART;TZID=Pacific/Auckland:20210124T123000
DTEND;TZID=Pacific/Auckland:20210124T130000
DESCRIPTION:Property ID# 500226
SUMMARY:Openhome for 49 Chateau Crescent
END:VEVENT
END:VCALENDAR
