BEGIN:VCALENDAR
VERSION:2.0
PRODID:icalendar-ruby
CALSCALE:GREGORIAN
BEGIN:VEVENT
DTSTAMP:20210121T194439Z
UID:2dc13180-e5ca-4ff7-9522-0111c902c6e2
DTSTART;TZID=Pacific/Auckland:20210124T113000
DTEND;TZID=Pacific/Auckland:20210124T120000
DESCRIPTION:Property ID# 499868
SUMMARY:Openhome for 5 Sandhurst Drive
END:VEVENT
END:VCALENDAR
