BEGIN:VCALENDAR
VERSION:2.0
PRODID:icalendar-ruby
CALSCALE:GREGORIAN
BEGIN:VEVENT
DTSTAMP:20260421T181602Z
UID:e575a5dc-5d1d-4675-b046-53befc30be8a
DTSTART;VALUE=DATE:20190905
DESCRIPTION:Property ID# 459347\, Locatoin: Auction Rooms\, 247 Cameron Roa
 d\, Tauranga (unless sold prior)\, Time: 1:00PM
SUMMARY:Auction for 
END:VEVENT
END:VCALENDAR
